BEGIN:VCALENDAR
VERSION:2.0
PRODID:-//eventon.com NONSGML v1.0//EN
BEGIN:VEVENT
UID:69e7598f993d8
DTSTAMP:20260421T110343
DTSTART:20241017T010000Z
DTEND:20241017T010000Z
LOCATION:
SUMMARY:HR Live Den Haag
DESCRIPTION: Op de Expo kun je in ongedwongen sfeer en geheel vrijblijvend kennismaken met deskundigen van onze partners die je verder kunnen helpen met jouw specifieke HR-vragen rond het thema werk. Zo kun je alvast jouw eigen informele marktverkenning doen en zonder veel moeite jouw eigen short list van preferred suppliers[..]
END:VEVENT
END:VCALENDAR