BEGIN:VCALENDAR
VERSION:2.0
PRODID:-//eventon.com NONSGML v1.0//EN
BEGIN:VEVENT
UID:69e72fc7b0705
DTSTAMP:20260421T080527
DTSTART:20250127T000000Z
DTEND:20250127T235900Z
LOCATION:
SUMMARY:Training TMA Professional certificering
DESCRIPTION: Na deze driedaagse training ben je in staat om met behulp van de TMA Methode talentgericht te selecteren\,  ontwikkelen en coachen. Hierbij is alles erop gericht om het beste uit uw medewerkers of coachees te halen. Na afloop van de certificeringstraining ontvangt u het officiële ‘TMA professional certificaat’. Er is[..]
END:VEVENT
END:VCALENDAR